BEGIN:VCALENDAR
VERSION:2.0
PRODID:-//wp-events-plugin.com//7.2.3.1//EN
TZID:Europe/London
X-WR-TIMEZONE:Europe/London
BEGIN:VEVENT
UID:1109@themarispractice.com
DTSTART;TZID=Europe/London:20231119T190000
DTEND;TZID=Europe/London:20231119T210000
DTSTAMP:20230912T155703Z
URL:https://themarispractice.com/events/yoga-therapy-course-for-mental-hea
 lth-with-sammie-mason-2023-11-19/
SUMMARY:Yoga Therapy Course for Mental Health with Sammie Mason
DESCRIPTION:This course is open to anyone who wishes to take a positive ste
 p towards better managing their experience of anxiety\, stress or depressi
 on\, with a long-term view of making life-long change.\n\nNo previous expe
 rience of yoga is necessary\, just a commitment to show up and do the home
  practice to fully benefit from its offering.
ATTACH;FMTTYPE=image/jpeg:https://themarispractice.com/wp-content/uploads/
 2023/05/Sammie-course.png
CATEGORIES:Workshop
END:VEVENT
BEGIN:VTIMEZONE
TZID:Europe/London
X-LIC-LOCATION:Europe/London
BEGIN:STANDARD
DTSTART:20231029T010000
TZOFFSETFROM:+0100
TZOFFSETTO:+0000
TZNAME:GMT
END:STANDARD
END:VTIMEZONE
END:VCALENDAR