BEGIN:VCALENDAR
VERSION:2.0
PRODID:-//wp-events-plugin.com//7.2.3.1//EN
TZID:Europe/London
X-WR-TIMEZONE:Europe/London
BEGIN:VEVENT
UID:1092@themarispractice.com
DTSTART;TZID=Europe/London:20231228T193000
DTEND;TZID=Europe/London:20231228T210000
DTSTAMP:20230817T130215Z
URL:https://themarispractice.com/events/yoga-for-perimenopause-online-grou
 p-class-with-yoga-therapist-sammie-mason-2023-12-28/
SUMMARY:Yoga for Perimenopause - Online group class with Yoga Therapist Sam
 mie Mason
DESCRIPTION:Aiming to support women on their menopause journey and helping 
 to navigate this time of transition\, Love Yoga London will be running a n
 ew weekly online group class from Thursday 7th September\, 7:30pm – 9pm 
 as well as 1-1 face to face sessions at ‘The Maris Practice’.
ATTACH;FMTTYPE=image/jpeg:https://themarispractice.com/wp-content/uploads/
 2020/12/Yoga-e1608726496869.png
CATEGORIES:Workshop
END:VEVENT
BEGIN:VTIMEZONE
TZID:Europe/London
X-LIC-LOCATION:Europe/London
BEGIN:STANDARD
DTSTART:20231029T010000
TZOFFSETFROM:+0100
TZOFFSETTO:+0000
TZNAME:GMT
END:STANDARD
END:VTIMEZONE
END:VCALENDAR