BEGIN:VCALENDAR
VERSION:2.0
PRODID:-//wp-events-plugin.com//7.2.3.1//EN
TZID:Europe/London
X-WR-TIMEZONE:Europe/London
BEGIN:VEVENT
UID:1053@themarispractice.com
DTSTART;TZID=Europe/London:20200111T130000
DTEND;TZID=Europe/London:20200111T140000
DTSTAMP:20200211T151420Z
URL:https://themarispractice.com/events/take-control-of-food-cravings-for-
 good/
SUMMARY:Take control of food cravings – for good!
DESCRIPTION:HAVE to have chocolate after a meal?\nAlways finishing the whol
 e packet of biscuits?\nSound familiar?\nTake control of food cravings – 
 for good!\nWith hypnotherapist\, Louise Coyle\nNo control when it comes t
 o chocolate\, cheese\, crisps\, biscuits or sweets? Eating too much unheal
 thy food? Snacking when you aren’t even hungry? It’s time to break th
 ese habits!\n\nEFT/tapping can help you gain control\n\nEFT/tapping has be
 en shown to change how your brain responds to the cravings for certain fo
 ods. It helps you to say ‘no’ and breaks the vicious cycle of emotion
 al and comfort eating.\n\nIn this workshop Louise will introduce you to E
 FT/tapping and show how it can help you to bring food cravings back under
  control. You will learn the techniques you need to feel in charge of wha
 t you eat…\n\nTake charge now!\n\nThis event is on Saturday January 11
 th '20 from 1pm to 2pm. Cost is £10 per person.\n\nContact our recept
 ion team to reserve your place.
CATEGORIES:Workshop
LOCATION:The Maris Practice\, 13 Baylis Mews\, Twickenham\, Middlesex\, TW1
  3HQ\, United Kingdom
X-APPLE-STRUCTURED-LOCATION;VALUE=URI;X-ADDRESS=13 Baylis Mews\, Twickenham
 \, Middlesex\, TW1 3HQ\, United Kingdom;X-APPLE-RADIUS=100;X-TITLE=The Mar
 is Practice:geo:0,0
END:VEVENT
BEGIN:VTIMEZONE
TZID:Europe/London
X-LIC-LOCATION:Europe/London
BEGIN:STANDARD
DTSTART:20191027T010000
TZOFFSETFROM:+0100
TZOFFSETTO:+0000
TZNAME:GMT
END:STANDARD
END:VTIMEZONE
END:VCALENDAR