BEGIN:VCALENDAR
VERSION:2.0
PRODID:-//wp-events-plugin.com//7.2.3.1//EN
TZID:Europe/London
X-WR-TIMEZONE:Europe/London
BEGIN:VEVENT
UID:1120@themarispractice.com
DTSTART;TZID=Europe/London:20251109T160000
DTEND;TZID=Europe/London:20251109T170000
DTSTAMP:20250905T144209Z
URL:https://themarispractice.com/events/one-hour-of-calm-relaxation-worksh
 ops-2/
SUMMARY:One Hour of Calm relaxation workshops
DESCRIPTION:Workshop to teach you how to achieve One Hour of Calm in your d
 aily life. The workshops will help you practice relaxing much more deeply 
 and restfully and give you the tools to manage stress and anxiety in every
 day life. Louise teaches different techniques at different sessions - and 
 you can come when suits you.\n\nWe cover hypnosis\, mindfulness\, visualis
 ation techniques\, simple meditation and relaxation so there is bound to b
 e something that will suit you.\n\nBook here.
ATTACH;FMTTYPE=image/jpeg:https://themarispractice.com/wp-content/uploads/
 2023/03/Calm.png
CATEGORIES:Workshop
LOCATION:The Maris Practice\, 13 Baylis Mews\, Twickenham\, Middlesex\, TW1
  3HQ\, United Kingdom
X-APPLE-STRUCTURED-LOCATION;VALUE=URI;X-ADDRESS=13 Baylis Mews\, Twickenham
 \, Middlesex\, TW1 3HQ\, United Kingdom;X-APPLE-RADIUS=100;X-TITLE=The Mar
 is Practice:geo:0,0
END:VEVENT
BEGIN:VTIMEZONE
TZID:Europe/London
X-LIC-LOCATION:Europe/London
BEGIN:STANDARD
DTSTART:20251026T010000
TZOFFSETFROM:+0100
TZOFFSETTO:+0000
TZNAME:GMT
END:STANDARD
END:VTIMEZONE
END:VCALENDAR