BEGIN:VCALENDAR
VERSION:2.0
PRODID:-//wp-events-plugin.com//7.2.3.1//EN
TZID:Europe/London
X-WR-TIMEZONE:Europe/London
BEGIN:VEVENT
UID:1069@themarispractice.com
DTSTART;TZID=Europe/London:20231126T160000
DTEND;TZID=Europe/London:20231126T170000
DTSTAMP:20230321T155854Z
URL:https://themarispractice.com/events/one-hour-of-calm-relaxation-worksh
 op-2023-11-26/
SUMMARY:One Hour of Calm Relaxation Workshop
DESCRIPTION:Once-a-month workshops to teach you how to achieve One Hour of 
 Calm in your daily life. The workshops will help you practice relaxing muc
 h more deeply and restfully and give you the tools to manage stress and an
 xiety in everyday life.
ATTACH;FMTTYPE=image/jpeg:https://themarispractice.com/wp-content/uploads/
 2023/03/Calm.png
CATEGORIES:Workshop
LOCATION:The Maris Practice\, 13 Baylis Mews\, Twickenham\, Middlesex\, TW1
  3HQ\, United Kingdom
X-APPLE-STRUCTURED-LOCATION;VALUE=URI;X-ADDRESS=13 Baylis Mews\, Twickenham
 \, Middlesex\, TW1 3HQ\, United Kingdom;X-APPLE-RADIUS=100;X-TITLE=The Mar
 is Practice:geo:0,0
END:VEVENT
BEGIN:VTIMEZONE
TZID:Europe/London
X-LIC-LOCATION:Europe/London
BEGIN:STANDARD
DTSTART:20231029T010000
TZOFFSETFROM:+0100
TZOFFSETTO:+0000
TZNAME:GMT
END:STANDARD
END:VTIMEZONE
END:VCALENDAR