BEGIN:VCALENDAR
VERSION:2.0
PRODID:-//wp-events-plugin.com//7.2.3.1//EN
TZID:Europe/London
X-WR-TIMEZONE:Europe/London
BEGIN:VEVENT
UID:1072@themarispractice.com
DTSTART;TZID=Europe/London:20230621T091500
DTEND;TZID=Europe/London:20230621T101500
DTSTAMP:20230618T175855Z
URL:https://themarispractice.com/events/morning-hatha-yoga-with-sammie-mas
 on/
SUMMARY:Morning Hatha Yoga with Sammie Mason
DESCRIPTION:Our usual morning\,1 hour\, Hatha yoga class will be running. T
 his will aim to gently energise and uplift and get you ready for the day!\
 n\nWhere: Online\nCost: £10\n\nEmail Sammie to join
ATTACH;FMTTYPE=image/jpeg:https://themarispractice.com/wp-content/uploads/
 2023/06/yoga.png
CATEGORIES:Class
END:VEVENT
BEGIN:VTIMEZONE
TZID:Europe/London
X-LIC-LOCATION:Europe/London
BEGIN:DAYLIGHT
DTSTART:20230326T020000
TZOFFSETFROM:+0000
TZOFFSETTO:+0100
TZNAME:BST
END:DAYLIGHT
END:VTIMEZONE
END:VCALENDAR