BEGIN:VCALENDAR
VERSION:2.0
PRODID:-//wp-events-plugin.com//7.2.3.1//EN
TZID:Europe/London
X-WR-TIMEZONE:Europe/London
BEGIN:VEVENT
UID:3@themarispractice.com
DTSTART;TZID=Europe/London:20200217T093000
DTEND;TZID=Europe/London:20200217T123000
DTSTAMP:20200810T150225Z
URL:https://themarispractice.com/events/monday-morning-mum-and-baby-drop-i
 n-2020-02-17/
SUMMARY:Monday Morning Mum and Baby Drop In
DESCRIPTION:Weekly drop-in session with specialist advice on sleeping\, fee
 ding\, colic and other needs for your baby\, over a cup of tea with other 
 mums. Get advice from breast feeding consultants and cranial osteopaths ov
 er a range of issues and subject to availability a complementary head and
  neck massage.
ATTACH;FMTTYPE=image/jpeg:https://themarispractice.com/wp-content/uploads/
 2020/02/Workshop_mum_n_baby.png
CATEGORIES:Class
LOCATION:The Maris Practice\, 13 Baylis Mews\, Twickenham\, Middlesex\, TW1
  3HQ\, United Kingdom
X-APPLE-STRUCTURED-LOCATION;VALUE=URI;X-ADDRESS=13 Baylis Mews\, Twickenham
 \, Middlesex\, TW1 3HQ\, United Kingdom;X-APPLE-RADIUS=100;X-TITLE=The Mar
 is Practice:geo:0,0
END:VEVENT
BEGIN:VTIMEZONE
TZID:Europe/London
X-LIC-LOCATION:Europe/London
BEGIN:STANDARD
DTSTART:20191027T010000
TZOFFSETFROM:+0100
TZOFFSETTO:+0000
TZNAME:GMT
END:STANDARD
END:VTIMEZONE
END:VCALENDAR