BEGIN:VCALENDAR
VERSION:2.0
PRODID:-//wp-events-plugin.com//7.2.3.1//EN
TZID:Europe/London
X-WR-TIMEZONE:Europe/London
BEGIN:VEVENT
UID:1047@themarispractice.com
DTSTART;TZID=Europe/London:20191109T130000
DTEND;TZID=Europe/London:20191109T140000
DTSTAMP:20200211T150854Z
URL:https://themarispractice.com/events/how-to-manage-pain-better/
SUMMARY:How to manage pain better
DESCRIPTION:If you suffer from pain on a regular basis you know how drainin
 g it can be - it drags you down and become all consuming. What if you coul
 d learn how to change how you perceive pain? To reduce it and make it more
  manageable?\n\nHypnotherapy can teach you how to alter how your brain per
 ceives pain and in this workshop Louise Coyle\, our hypnotherapist\, will 
 introduce you to the techniques.\n\nLouise Coyle\, a registered hypnothera
 pist with the charity Anxiety UK\, specialises in helping people who are s
 truggling to cope with life’s problems by teaching them ways of reducing
  and managing stress and anxiety. Louise will be teaching simple\, practic
 al tools to help you manage those anxious thoughts and feelings. These too
 ls can be used in everyday situations and will help give you inner resilie
 nce to deal with everything life might have in store.\n\nThis event is on
  Saturday November 9th from 1pm to 2pm. Cost is £10 per person.\n\nCon
 tact our reception team to reserve your place.
CATEGORIES:Workshop
LOCATION:The Maris Practice\, 13 Baylis Mews\, Twickenham\, Middlesex\, TW1
  3HQ\, United Kingdom
X-APPLE-STRUCTURED-LOCATION;VALUE=URI;X-ADDRESS=13 Baylis Mews\, Twickenham
 \, Middlesex\, TW1 3HQ\, United Kingdom;X-APPLE-RADIUS=100;X-TITLE=The Mar
 is Practice:geo:0,0
END:VEVENT
BEGIN:VTIMEZONE
TZID:Europe/London
X-LIC-LOCATION:Europe/London
BEGIN:STANDARD
DTSTART:20191027T010000
TZOFFSETFROM:+0100
TZOFFSETTO:+0000
TZNAME:GMT
END:STANDARD
END:VTIMEZONE
END:VCALENDAR