BEGIN:VCALENDAR
VERSION:2.0
PRODID:-//wp-events-plugin.com//7.2.3.1//EN
TZID:Europe/London
X-WR-TIMEZONE:Europe/London
BEGIN:VEVENT
UID:1048@themarispractice.com
DTSTART;TZID=Europe/London:20200312T190000
DTEND;TZID=Europe/London:20200312T200000
DTSTAMP:20200311T202511Z
URL:https://themarispractice.com/events/how-to-improve-your-sleep/
SUMMARY:How to improve your sleep
DESCRIPTION:Nothing is more important to health than getting a restful and 
 restorative night’s sleep. Yet so many of us struggle with sleep and fin
 d ourselves lying awake in the small hours worrying! This workshop will sh
 ow you how to prepare your mind and body for a restful sleep and how to ta
 ckle night-time awakenings to give you the best night’s sleep possible.\
 nThis workshop will be led by our Hypnotherapist\, Louise Coyle\nThis eve
 nt is on Thursday March 12th from 7pm to 8pm. Cost is £10 per person.
 \n\nContact our reception team to reserve your place.
ATTACH;FMTTYPE=image/jpeg:https://themarispractice.com/wp-content/uploads/
 2020/02/Workshop_sleep.png
CATEGORIES:Workshop
LOCATION:The Maris Practice\, 13 Baylis Mews\, Twickenham\, Middlesex\, TW1
  3HQ\, United Kingdom
X-APPLE-STRUCTURED-LOCATION;VALUE=URI;X-ADDRESS=13 Baylis Mews\, Twickenham
 \, Middlesex\, TW1 3HQ\, United Kingdom;X-APPLE-RADIUS=100;X-TITLE=The Mar
 is Practice:geo:0,0
END:VEVENT
BEGIN:VTIMEZONE
TZID:Europe/London
X-LIC-LOCATION:Europe/London
BEGIN:STANDARD
DTSTART:20191027T010000
TZOFFSETFROM:+0100
TZOFFSETTO:+0000
TZNAME:GMT
END:STANDARD
END:VTIMEZONE
END:VCALENDAR