BEGIN:VCALENDAR
VERSION:2.0
PRODID:-//wp-events-plugin.com//7.2.3.1//EN
TZID:Europe/London
X-WR-TIMEZONE:Europe/London
BEGIN:VEVENT
UID:1057@themarispractice.com
DTSTART;TZID=Europe/London:20230327T130000
DTEND;TZID=Europe/London:20230327T140000
DTSTAMP:20230321T155325Z
URL:https://themarispractice.com/events/how-to-help-an-anxious-child-a-wor
 kshop/
SUMMARY:How to help an anxious child - a workshop
DESCRIPTION:\nAre you facing the reality of an anxious child?\nAre you desp
 erate to help but not sure what approach to take?\nLouise Coyle will be ta
 lking about how a parent can help their child to be less anxious and more 
 resilient.\n\nA very interesting new approach has shown that it may not be
  necessary for primary-school aged children to see a therapist themselves 
 in order to benefit from cognitive behavioural therapy. They seem to get a
 s much benefit from being shown how to look at thoughts and behaviour from
  their parent – so only the parent needs to see the therapist!\n\nLouise
  will be explaining how this works and discussing a few simple ways that y
 ou\, as a parent and the expert on your own child\, might be able to chang
 e things.
ATTACH;FMTTYPE=image/jpeg:https://themarispractice.com/wp-content/uploads/
 2023/03/Anxious_Child-e1757084269851.png
CATEGORIES:Workshop
LOCATION:The Maris Practice\, 13 Baylis Mews\, Twickenham\, Middlesex\, TW1
  3HQ\, United Kingdom
X-APPLE-STRUCTURED-LOCATION;VALUE=URI;X-ADDRESS=13 Baylis Mews\, Twickenham
 \, Middlesex\, TW1 3HQ\, United Kingdom;X-APPLE-RADIUS=100;X-TITLE=The Mar
 is Practice:geo:0,0
END:VEVENT
BEGIN:VTIMEZONE
TZID:Europe/London
X-LIC-LOCATION:Europe/London
BEGIN:DAYLIGHT
DTSTART:20230326T020000
TZOFFSETFROM:+0000
TZOFFSETTO:+0100
TZNAME:BST
END:DAYLIGHT
END:VTIMEZONE
END:VCALENDAR