BEGIN:VCALENDAR
VERSION:2.0
PRODID:-//wp-events-plugin.com//7.2.3.1//EN
TZID:Europe/London
X-WR-TIMEZONE:Europe/London
BEGIN:VEVENT
UID:1058@themarispractice.com
DTSTART;TZID=Europe/London:20230423T160000
DTEND;TZID=Europe/London:20230423T170000
DTSTAMP:20230403T052505Z
URL:https://themarispractice.com/events/how-to-cope-with-exams-a-workshop/
SUMMARY:How to cope with exams – a workshop
DESCRIPTION:\n\nAre you feeling anxious and stressed just thinking about ho
 w to get through exams this summer?\n\nDoes the thought of exams give you 
 a panicky feeling\, sometimes you feel so anxious your mind goes blank bec
 ause you feel so much pressure to do well?\n\nThis workshop will teach you
  relaxation\, mindfulness and stress management tools to help you control 
 your nerves\, stay cool and calm during the exam and feel able to perform 
 at your best.\n\nYou can attend this workshop in person or online - please
  choose your preference when booking your place.
ATTACH;FMTTYPE=image/jpeg:https://themarispractice.com/wp-content/uploads/
 2023/03/exam-stress.jpg
CATEGORIES:Workshop
LOCATION:The Maris Practice\, 13 Baylis Mews\, Twickenham\, Middlesex\, TW1
  3HQ\, United Kingdom
X-APPLE-STRUCTURED-LOCATION;VALUE=URI;X-ADDRESS=13 Baylis Mews\, Twickenham
 \, Middlesex\, TW1 3HQ\, United Kingdom;X-APPLE-RADIUS=100;X-TITLE=The Mar
 is Practice:geo:0,0
END:VEVENT
BEGIN:VTIMEZONE
TZID:Europe/London
X-LIC-LOCATION:Europe/London
BEGIN:DAYLIGHT
DTSTART:20230326T020000
TZOFFSETFROM:+0000
TZOFFSETTO:+0100
TZNAME:BST
END:DAYLIGHT
END:VTIMEZONE
END:VCALENDAR