BEGIN:VCALENDAR
VERSION:2.0
PRODID:-//wp-events-plugin.com//7.2.3.1//EN
TZID:Europe/London
X-WR-TIMEZONE:Europe/London
BEGIN:VEVENT
UID:1123@themarispractice.com
DTSTART;TZID=Europe/London:20260208T160000
DTEND;TZID=Europe/London:20260208T173000
DTSTAMP:20260125T174411Z
URL:https://themarispractice.com/events/how-can-i-help-my-anxious-child-pa
 rent-led-cbt-2/
SUMMARY:How can I help my anxious child? Parent-led CBT
DESCRIPTION:Recent data has shown that feelings of anxiety are rising fast 
 for our children\, and this often leaves a parent feeling scared and helpl
 ess about what to do for the best.\n\nAre you facing the reality of an anx
 ious child? Are you desperate to help but not sure what approach to take? 
 Louise will be talking about how a parent can help their child to be less 
 anxious and more resilient.\n\nA very interesting new approach has shown t
 hat it may not be necessary for primary aged children to see a therapist t
 hemselves in order to benefit from cognitive behavioural therapy. They see
 m to get as much benefit from being shown how to look at thoughts and beha
 viour from their parent – so only the parent needs to see the therapist!
 \n\nLouise will be explaining how this works and discussing a few simple w
 ays that you\, as a parent and the expert on your own child\, might be abl
 e to change things.\n\nBook here.
ATTACH;FMTTYPE=image/jpeg:https://themarispractice.com/wp-content/uploads/
 2023/03/Anxious_Child-e1757084269851.png
CATEGORIES:Workshop
LOCATION:The Maris Practice\, 13 Baylis Mews\, Twickenham\, Middlesex\, TW1
  3HQ\, United Kingdom
X-APPLE-STRUCTURED-LOCATION;VALUE=URI;X-ADDRESS=13 Baylis Mews\, Twickenham
 \, Middlesex\, TW1 3HQ\, United Kingdom;X-APPLE-RADIUS=100;X-TITLE=The Mar
 is Practice:geo:0,0
END:VEVENT
BEGIN:VTIMEZONE
TZID:Europe/London
X-LIC-LOCATION:Europe/London
BEGIN:STANDARD
DTSTART:20251026T010000
TZOFFSETFROM:+0100
TZOFFSETTO:+0000
TZNAME:GMT
END:STANDARD
END:VTIMEZONE
END:VCALENDAR