BEGIN:VCALENDAR
VERSION:2.0
PRODID:-//wp-events-plugin.com//7.2.3.1//EN
TZID:Europe/London
X-WR-TIMEZONE:Europe/London
BEGIN:VEVENT
UID:1056@themarispractice.com
DTSTART;TZID=Europe/London:20200818T193000
DTEND;TZID=Europe/London:20200818T203000
DTSTAMP:20200810T150428Z
URL:https://themarispractice.com/events/health-anxiety-what-is-it-and-how-
 to-cope-if-you-have-it/
SUMMARY:Health anxiety: what is it and how to cope if you have it
DESCRIPTION:A workshop on Zoom with Hypnotherapist\, Louise who will be tea
 ching strategies to help you feel calmer and more relaxed in these uncerta
 in times and enable you to get on with your life.
CATEGORIES:Workshop
END:VEVENT
BEGIN:VTIMEZONE
TZID:Europe/London
X-LIC-LOCATION:Europe/London
BEGIN:DAYLIGHT
DTSTART:20200329T020000
TZOFFSETFROM:+0000
TZOFFSETTO:+0100
TZNAME:BST
END:DAYLIGHT
END:VTIMEZONE
END:VCALENDAR