BEGIN:VCALENDAR
VERSION:2.0
PRODID:-//wp-events-plugin.com//7.2.3.1//EN
TZID:Europe/London
X-WR-TIMEZONE:Europe/London
BEGIN:VEVENT
UID:1050@themarispractice.com
DTSTART;TZID=Europe/London:20200425T103000
DTEND;TZID=Europe/London:20200425T120000
DTSTAMP:20200311T203939Z
URL:https://themarispractice.com/events/fussy-eating-workshop/
SUMMARY:Fussy Eating Workshop
DESCRIPTION:A practical and positive approach to dealing with family mealti
 mes and fussy eaters\n\n\n 	Help! My child won’t eat any vegetables!\n 	
 Food refusal: should I be worried or is it just a phase?\n 	Mealtime battl
 es\n 	How can I cook just one meal for the whole family?\n\nThese are the 
 frustrations frequently faced by parents at mealtimes. Sophie Crosswaite\
 , Registered Associate Nutritionist\, will help enable you and your famili
 es regain some harmony and explain some of the evidence around why some ch
 ildren are fussy eaters. She will provide insights in how to encourage chi
 ldren to try new foods and provide tips and methods to cope with fussy eat
 ers.\n\nThis event is on Saturday April 25th '20 from 10.30am to 12pm.
  Cost is £10 per person.\n\nContact our reception team to reserve yo
 ur place.
ATTACH;FMTTYPE=image/jpeg:https://themarispractice.com/wp-content/uploads/
 2020/02/Workshop_Fussy_Eaters.jpg
CATEGORIES:Workshop
LOCATION:The Maris Practice\, 13 Baylis Mews\, Twickenham\, Middlesex\, TW1
  3HQ\, United Kingdom
X-APPLE-STRUCTURED-LOCATION;VALUE=URI;X-ADDRESS=13 Baylis Mews\, Twickenham
 \, Middlesex\, TW1 3HQ\, United Kingdom;X-APPLE-RADIUS=100;X-TITLE=The Mar
 is Practice:geo:0,0
END:VEVENT
BEGIN:VTIMEZONE
TZID:Europe/London
X-LIC-LOCATION:Europe/London
BEGIN:DAYLIGHT
DTSTART:20200329T020000
TZOFFSETFROM:+0000
TZOFFSETTO:+0100
TZNAME:BST
END:DAYLIGHT
END:VTIMEZONE
END:VCALENDAR