BEGIN:VCALENDAR
VERSION:2.0
PRODID:-//wp-events-plugin.com//7.2.3.1//EN
TZID:Europe/London
X-WR-TIMEZONE:Europe/London
BEGIN:VEVENT
UID:1121@themarispractice.com
DTSTART;TZID=Europe/London:20251012T160000
DTEND;TZID=Europe/London:20251012T173000
DTSTAMP:20250905T144706Z
URL:https://themarispractice.com/events/eft-what-is-it-and-how-can-it-help
 -me/
SUMMARY:EFT - what is it and how can it help me?
DESCRIPTION:EFT or tapping\, is a really helpful technique to learn that wi
 ll enable you to feel calmer and less anxious about any kind of stressful
  situation. In this workshop I will explain what tapping is\, we will pra
 ctise it so you can experience the benefit of it for yourself\, and you wi
 ll leave with information that will help you to use it in your life to cha
 nge how you are feeling.\n\nBook here.
ATTACH;FMTTYPE=image/jpeg:https://themarispractice.com/wp-content/uploads/
 2025/09/themarispractice030-scaled.jpg
CATEGORIES:Workshop
LOCATION:The Maris Practice\, 13 Baylis Mews\, Twickenham\, Middlesex\, TW1
  3HQ\, United Kingdom
X-APPLE-STRUCTURED-LOCATION;VALUE=URI;X-ADDRESS=13 Baylis Mews\, Twickenham
 \, Middlesex\, TW1 3HQ\, United Kingdom;X-APPLE-RADIUS=100;X-TITLE=The Mar
 is Practice:geo:0,0
END:VEVENT
BEGIN:VTIMEZONE
TZID:Europe/London
X-LIC-LOCATION:Europe/London
BEGIN:DAYLIGHT
DTSTART:20250330T020000
TZOFFSETFROM:+0000
TZOFFSETTO:+0100
TZNAME:BST
END:DAYLIGHT
END:VTIMEZONE
END:VCALENDAR