BEGIN:VCALENDAR
VERSION:2.0
PRODID:-//wp-events-plugin.com//7.2.3.1//EN
TZID:Europe/London
X-WR-TIMEZONE:Europe/London
BEGIN:VEVENT
UID:1051@themarispractice.com
DTSTART;TZID=Europe/London:20190930T193000
DTEND;TZID=Europe/London:20190930T210000
DTSTAMP:20200311T205901Z
URL:https://themarispractice.com/events/coping-with-menopause/
SUMMARY:Coping with menopause
DESCRIPTION:What can I do to help me through this transition? What can I do
  alongside or instead of medical options?\nThe Maris Practice is hosting a
 n evening where you can meet complementary therapists who will be giving t
 alks about techniques that help cope with the symptoms of menopause and ex
 plore the powerful changes that occur at this time\, with time to chat wit
 h one another and our well-being practitioners over a glass of prosecco or
  other refreshments and nibbles. There are more details about the talks be
 low.\nThis event is on Monday September 30th\, 7.30pm – approx 9pm. Ti
 ckets are £10 per person.\n\nContact our reception team to reserve you
 r place.\n\nDeb Archibald\, Nutritional Therapist\; Nutritional Support f
 or Menopause - a Functional Medicine Approach\n\nMenopause is a natural tr
 ansition and not a “disease” but the symptoms can be frustrating and s
 ometimes devastating to women’s quality of life. Deb Archibald\, registe
 red Nutritionist\, will explain what happens to your hormones before and d
 uring menopause\, why symptoms arise\, how you can support your body’s c
 hanges through diet and lifestyle\, and the importance of “addressing th
 e terrain” to create balance in body and mind.\n\nLouise Coyle\, Hypnoth
 erapist will explain how simple\, easy to learn\, self-hypnosis technique
 s can help you to bring your distressing menopausal symptoms such as hot f
 lushes\, insomnia\, stress and anxiety under control\, and enable you to f
 eel more like 'you' again.\n\nSarah Walker Psychotherapist and Counsellor
  will help us explore the powerful emotions that often accompany us on th
 is transitional journey. We will look at ways of transforming these into p
 ositive energies that will support us to flourish in this new phase of our
  lives”\n\n&nbsp\;
ATTACH;FMTTYPE=image/jpeg:https://themarispractice.com/wp-content/uploads/
 2020/02/Workshop_menopause.png
CATEGORIES:Workshop
LOCATION:The Maris Practice\, 13 Baylis Mews\, Twickenham \, TW1 3HQ\, Unit
 ed Kingdom
X-APPLE-STRUCTURED-LOCATION;VALUE=URI;X-ADDRESS=13 Baylis Mews\, Twickenham
  \, TW1 3HQ\, United Kingdom;X-APPLE-RADIUS=100;X-TITLE=The Maris Practice
 :geo:0,0
END:VEVENT
BEGIN:VTIMEZONE
TZID:Europe/London
X-LIC-LOCATION:Europe/London
BEGIN:DAYLIGHT
DTSTART:20190331T020000
TZOFFSETFROM:+0000
TZOFFSETTO:+0100
TZNAME:BST
END:DAYLIGHT
END:VTIMEZONE
END:VCALENDAR