BEGIN:VCALENDAR
VERSION:2.0
PRODID:-//wp-events-plugin.com//7.2.3.1//EN
TZID:Europe/London
X-WR-TIMEZONE:Europe/London
BEGIN:VEVENT
UID:1052@themarispractice.com
DTSTART;TZID=Europe/London:20200509T103000
DTEND;TZID=Europe/London:20200509T120000
DTSTAMP:20200311T204315Z
URL:https://themarispractice.com/events/baby-weaning/
SUMMARY:Baby Weaning
DESCRIPTION:This workshop is for parents of babies just starting on their l
 ife-long journey with food. In this small group workshop\, you will find o
 ut about:\n\n\n 	What is baby-led weaning?\n 	When is my baby ready to wea
 n?\n 	Which order shall I introduce foods?\n 	What are choking hazards?\n\
 nThis are the questions frequently asked by parents as they are about to s
 tart weaning their babies. Our nutritionist and mum of three children\, S
 ophie Crosswaite will answer them all and help debunk any myths around f
 eeding.\n\nThis event is on Saturday May 9th\, 10.30am – 12pm. Tickets
  are £10 per person.\n\nContact our reception team to reserve your pla
 ce.
ATTACH;FMTTYPE=image/jpeg:https://themarispractice.com/wp-content/uploads/
 2020/02/Workshop_Weaning.jpeg
CATEGORIES:Workshop
LOCATION:The Maris Practice\, 13 Baylis Mews\, Twickenham\, Middlesex\, TW1
  3HQ\, United Kingdom
X-APPLE-STRUCTURED-LOCATION;VALUE=URI;X-ADDRESS=13 Baylis Mews\, Twickenham
 \, Middlesex\, TW1 3HQ\, United Kingdom;X-APPLE-RADIUS=100;X-TITLE=The Mar
 is Practice:geo:0,0
END:VEVENT
BEGIN:VTIMEZONE
TZID:Europe/London
X-LIC-LOCATION:Europe/London
BEGIN:DAYLIGHT
DTSTART:20200329T020000
TZOFFSETFROM:+0000
TZOFFSETTO:+0100
TZNAME:BST
END:DAYLIGHT
END:VTIMEZONE
END:VCALENDAR